BEGIN:VCALENDAR
VERSION:2.0
PRODID:SchoolNow
CALSCALE:GREGORIAN
BEGIN:VEVENT
UID:82592c96-8ea3-11ec-879a-0a6afb63a2b1
DTSTAMP:20220215T210905Z
SUMMARY:Baseball vs Shasta
LOCATION:Eagles Nest - 570 Golden Eagle Ave.\, Quincy CA 95971
URL;VALUE=URI:https://www.frc.edu/about/calendar/3104662/baseball-vs-shasta
DTSTART:20220304T220000Z
DTEND:20220304T230000Z
END:VEVENT
END:VCALENDAR
