BEGIN:VCALENDAR
VERSION:2.0
PRODID:SchoolNow
CALSCALE:GREGORIAN
BEGIN:VEVENT
UID:5d956820-8ea3-11ec-8767-0ea086e779f7
DTSTAMP:20220215T210804Z
SUMMARY:Baseball vs Siskiyous (DH)
LOCATION:Eagles Nest - 570 Golden Eagle Ave.\, Quincy CA 95971
URL;VALUE=URI:https://www.frc.edu/about/calendar/3104661/baseball-vs-siskiy
 ous-dh
DTSTART:20220226T200000Z
DTEND:20220226T210000Z
END:VEVENT
END:VCALENDAR
