BEGIN:VCALENDAR
VERSION:2.0
PRODID:SchoolNow
CALSCALE:GREGORIAN
BEGIN:VEVENT
UID:18664f76-8ea3-11ec-a67c-0e81c673cb2b
DTSTAMP:20220215T210608Z
SUMMARY:Baseball vs Siskiyous
LOCATION:Eagles Nest - 570 Golden Eagle Ave\, Quincy CA 95971
URL;VALUE=URI:https://www.frc.edu/about/calendar/3104658/baseball-vs-siskiy
 ous
DTSTART:20220225T220000Z
DTEND:20220225T230000Z
END:VEVENT
END:VCALENDAR
