BEGIN:VCALENDAR
VERSION:2.0
PRODID:SchoolNow
CALSCALE:GREGORIAN
BEGIN:VEVENT
UID:10aff770-891a-11ec-8a3e-0213b1023683
DTSTAMP:20220208T200238Z
SUMMARY:Valentine's Day at FRC
LOCATION:Student Services Offices
URL;VALUE=URI:https://www.frc.edu/about/calendar/3096200/valentines-day-at-
 frc
DTSTART:20220214T180000Z
DTEND:20220214T230000Z
END:VEVENT
END:VCALENDAR
