BEGIN:VCALENDAR
VERSION:2.0
PRODID:SchoolNow
CALSCALE:GREGORIAN
BEGIN:VEVENT
UID:70a5a928-884c-11ec-b36b-0a5e86dd4cc5
DTSTAMP:20220207T193043Z
SUMMARY:Dorm PIZZA Party
URL;VALUE=URI:https://www.frc.edu/about/calendar/3094720/dorm-pizza-party
DTSTART:20220210T013000Z
DTEND:20220210T023000Z
END:VEVENT
END:VCALENDAR
