BEGIN:VCALENDAR
VERSION:2.0
PRODID:SchoolNow
CALSCALE:GREGORIAN
BEGIN:VEVENT
UID:bc7241b8-854f-11ec-b77d-0231ac41b0b1
DTSTAMP:20220204T001645Z
SUMMARY:Wellness Creative Art Outlet
LOCATION:Art Studio
URL;VALUE=URI:https://www.frc.edu/about/calendar/3091232/wellness-creative-
 art-outlet
DTSTART:20220224T210000Z
DTEND:20220224T230000Z
ATTACH;FILENAME=Wellness Creative Art Outlet.pdf;FMTTYPE=application/pdf:ht
 tps://campussuite-storage.s3.amazonaws.com/prod/1558523/0672826e-a84b-11e7
 -9779-0ae3e1d9783c/2371176/52f2af2c-854d-11ec-9310-02851f735517/file/Welln
 ess Creative Art Outlet.pdf
END:VEVENT
END:VCALENDAR
