BEGIN:VCALENDAR
VERSION:2.0
PRODID:SchoolNow
CALSCALE:GREGORIAN
BEGIN:VEVENT
UID:b574d916-854f-11ec-b80d-0a07f153b8f7
DTSTAMP:20220204T001633Z
SUMMARY:Grief and Loss Workshop
LOCATION:LRC 850
URL;VALUE=URI:https://www.frc.edu/about/calendar/3091231/grief-and-loss-wor
 kshop
DTSTART:20220217T210000Z
DTEND:20220217T223000Z
ATTACH;FILENAME=Grief and Loss Workshop Flyer (Hyperlink).pdf;FMTTYPE=appli
 cation/pdf:https://campussuite-storage.s3.amazonaws.com/prod/1558523/06728
 26e-a84b-11e7-9779-0ae3e1d9783c/2371175/4b4099d8-854d-11ec-8522-0e184638b5
 17/file/Grief and Loss Workshop Flyer (Hyperlink).pdf
END:VEVENT
END:VCALENDAR
