BEGIN:VCALENDAR
VERSION:2.0
PRODID:SchoolNow
CALSCALE:GREGORIAN
BEGIN:VEVENT
UID:f71508d8-850d-11ec-b385-027fd3ac22f5
DTSTAMP:20220224T002322Z
SUMMARY:Black History Month - Panel Discussion
LOCATION:Zoom
URL;VALUE=URI:https://www.frc.edu/about/calendar/3090321/black-history-mont
 h-panel-discussion
DTSTART:20220225T013000Z
DTEND:20220225T023000Z
END:VEVENT
END:VCALENDAR
