BEGIN:VCALENDAR
VERSION:2.0
PRODID:SchoolNow
CALSCALE:GREGORIAN
BEGIN:VEVENT
UID:f1b578aa-850d-11ec-9bd2-027fd3ac22f5
DTSTAMP:20220210T214329Z
SUMMARY:Black History Month Movie - Summer of Soul
LOCATION:Town Hall Theater (Downtown Quincy)
URL;VALUE=URI:https://www.frc.edu/about/calendar/3090320/black-history-mont
 h-movie-summer-of-soul
DTSTART:20220219T030000Z
DTEND:20220222T030000Z
ATTACH;FILENAME=SOS Poster.jpeg;FMTTYPE=image/jpeg:https://campussuite-stor
 age.s3.amazonaws.com/prod/1558523/0672826e-a84b-11e7-9779-0ae3e1d9783c/237
 4038/76cda506-8aba-11ec-bc58-0adabb419efb/file/SOS Poster.jpeg
END:VEVENT
END:VCALENDAR
