BEGIN:VCALENDAR
VERSION:2.0
PRODID:SchoolNow
CALSCALE:GREGORIAN
BEGIN:VEVENT
UID:0841c7b4-839b-11ec-be57-0a5c0fc2f6a5
DTSTAMP:20220201T201042Z
SUMMARY:Arts & Humanities Ed Plan Workshop w/free food
LOCATION:Learning Resource Center 871
URL;VALUE=URI:https://www.frc.edu/about/calendar/3088372/arts-humanities-ed
 -plan-workshop-w-free-food
DTSTART:20220209T010000Z
DTEND:20220209T020000Z
ATTACH;FILENAME=Workshop Arts and Humanities.docx;FMTTYPE=application/vnd.o
 penxmlformats-officedocument.wordprocessingml.document:https://campussuite
 -storage.s3.amazonaws.com/prod/1558523/0672826e-a84b-11e7-9779-0ae3e1d9783
 c/2369813/909c4ef4-8391-11ec-97c7-0a81d271a10b/file/Workshop Arts and Huma
 nities.docx
END:VEVENT
END:VCALENDAR
