BEGIN:VCALENDAR
VERSION:2.0
PRODID:SchoolNow
CALSCALE:GREGORIAN
BEGIN:VEVENT
UID:5c94f094-82b4-11ec-a4c7-0ed28a8ea41d
DTSTAMP:20220201T201020Z
SUMMARY:Free Black History Month Celebratory Lunch
LOCATION:Eagle's Perch Cafe
URL;VALUE=URI:https://www.frc.edu/about/calendar/3086983/black-history-mont
 h-free-lunch
DTSTART:20220202T190000Z
DTEND:20220202T220000Z
END:VEVENT
END:VCALENDAR
