BEGIN:VCALENDAR
VERSION:2.0
PRODID:SchoolNow
CALSCALE:GREGORIAN
BEGIN:VEVENT
UID:912f30e2-7ef1-11ec-ad7c-0e4baa5d8333
DTSTAMP:20220126T214732Z
SUMMARY:ASFRC Meeting
LOCATION:Student Lounge
URL;VALUE=URI:https://www.frc.edu/about/calendar/3082360/asfrc-meeting
DTSTART:20220207T233000Z
DTEND:20220208T003000Z
END:VEVENT
END:VCALENDAR
