BEGIN:VCALENDAR
VERSION:2.0
PRODID:SchoolNow
CALSCALE:GREGORIAN
BEGIN:VEVENT
UID:47d89756-7e3a-11ec-9da7-0ebaaaf7dce5
DTSTAMP:20220125T235532Z
SUMMARY:Day in the Mountains - Day #2
LOCATION:Feather River College Campus
URL;VALUE=URI:https://www.frc.edu/about/calendar/3081859/day-in-the-mountai
 ns-day-1-clone
DTSTART:20220429T160000Z
DTEND:20220429T170000Z
END:VEVENT
END:VCALENDAR
