BEGIN:VCALENDAR
VERSION:2.0
PRODID:SchoolNow
CALSCALE:GREGORIAN
BEGIN:VEVENT
UID:2fa27f12-7e3a-11ec-9bfe-0ebaaaf7dce5
DTSTAMP:20220301T174517Z
SUMMARY:Day in the Mountains - Day #1
LOCATION:Feather River College Campus
URL;VALUE=URI:https://www.frc.edu/about/calendar/3081858/day-in-the-mountai
 ns-day-1
DTSTART:20220422T160000Z
DTEND:20220422T170000Z
END:VEVENT
END:VCALENDAR
