BEGIN:VCALENDAR
VERSION:2.0
PRODID:SchoolNow
CALSCALE:GREGORIAN
BEGIN:VEVENT
UID:fd42903a-796f-11ec-bd16-02daafe31d41
DTSTAMP:20220119T213723Z
SUMMARY:Movie Night @ Town Hall Theater
LOCATION:Town Hall Theater (Downtown Quincy)
URL;VALUE=URI:https://www.frc.edu/about/calendar/3078078/movie-night-town-h
 all-theater
DTSTART:20220123T030000Z
DTEND:20220123T050000Z
END:VEVENT
END:VCALENDAR
