BEGIN:VCALENDAR
VERSION:2.0
PRODID:SchoolNow
CALSCALE:GREGORIAN
BEGIN:VEVENT
UID:d65ca226-796f-11ec-8d80-0254a99bd4c9
DTSTAMP:20220119T213618Z
SUMMARY:Bowling & Tacos
LOCATION:La Sierra Lanes
URL;VALUE=URI:https://www.frc.edu/about/calendar/3078077/bowling-tacos
DTSTART:20220122T010000Z
DTEND:20220122T030000Z
END:VEVENT
END:VCALENDAR
