BEGIN:VCALENDAR
VERSION:2.0
PRODID:SchoolNow
CALSCALE:GREGORIAN
BEGIN:VEVENT
UID:b68afb00-796f-11ec-94dc-0a36944b824d
DTSTAMP:20220119T213525Z
SUMMARY:Resource Fair
LOCATION:Gymnasium
URL;VALUE=URI:https://www.frc.edu/about/calendar/3078076/resource-fair
DTSTART:20220121T000000Z
DTEND:20220121T020000Z
END:VEVENT
END:VCALENDAR
