BEGIN:VCALENDAR
VERSION:2.0
PRODID:SchoolNow
CALSCALE:GREGORIAN
BEGIN:VEVENT
UID:86854186-796f-11ec-82f4-0e52a75488ad
DTSTAMP:20220119T213904Z
SUMMARY:Basketball & Dinner Afterwards
LOCATION:Gymnasium
URL;VALUE=URI:https://www.frc.edu/about/calendar/3078075/basketball-dinner-
 afterwards
DTSTART:20220119T230000Z
DTEND:20220120T020000Z
END:VEVENT
END:VCALENDAR
