BEGIN:VCALENDAR
VERSION:2.0
PRODID:SchoolNow
CALSCALE:GREGORIAN
BEGIN:VEVENT
UID:01693892-7012-11ec-a0a7-0e65b6e57d95
DTSTAMP:20220107T233314Z
SUMMARY:FRC - PUSD - PCOE Trustee Area Boundary Public Forums (session #4)
LOCATION:Zoom
URL;VALUE=URI:https://www.frc.edu/about/calendar/3054521/frc-pusd-pcoe-trus
 tee-area-boundary-public-forums-session-1-clone-clone-clone
DTSTART:20220126T020000Z
DTEND:20220126T023000Z
END:VEVENT
END:VCALENDAR
