BEGIN:VCALENDAR
VERSION:2.0
PRODID:SchoolNow
CALSCALE:GREGORIAN
BEGIN:VEVENT
UID:e81f04de-7011-11ec-9f12-0e65b6e57d95
DTSTAMP:20220107T233304Z
SUMMARY:FRC - PUSD - PCOE Trustee Area Boundary Public Forums (session #3)
LOCATION:Zoom
URL;VALUE=URI:https://www.frc.edu/about/calendar/3054520/frc-pusd-pcoe-trus
 tee-area-boundary-public-forums-session-1-clone-clone
DTSTART:20220119T020000Z
DTEND:20220119T023000Z
END:VEVENT
END:VCALENDAR
