BEGIN:VCALENDAR
VERSION:2.0
PRODID:SchoolNow
CALSCALE:GREGORIAN
BEGIN:VEVENT
UID:ddfdc080-7011-11ec-8311-0e65b6e57d95
DTSTAMP:20220107T233252Z
SUMMARY:FRC - PUSD - PCOE Trustee Area Boundary Public Forums (session #2)
LOCATION:Zoom
URL;VALUE=URI:https://www.frc.edu/about/calendar/3054519/frc-pusd-pcoe-trus
 tee-area-boundary-public-forums-session-1-clone
DTSTART:20220114T020000Z
DTEND:20220114T023000Z
END:VEVENT
END:VCALENDAR
