BEGIN:VCALENDAR
VERSION:2.0
PRODID:SchoolNow
CALSCALE:GREGORIAN
BEGIN:VEVENT
UID:cf6ba80c-7011-11ec-8100-0e65b6e57d95
DTSTAMP:20220107T233231Z
SUMMARY:FRC - PUSD - PCOE Trustee Area Boundary Public Forums (session #1)
LOCATION:Zoom
URL;VALUE=URI:https://www.frc.edu/about/calendar/3054518/frc-pusd-pcoe-trus
 tee-area-boundary-public-forums-session-1
DTSTART:20220112T020000Z
DTEND:20220112T023000Z
END:VEVENT
END:VCALENDAR
