BEGIN:VCALENDAR
VERSION:2.0
PRODID:SchoolNow
CALSCALE:GREGORIAN
BEGIN:VEVENT
UID:742e852a-5df3-11ec-8ba7-0a1f748b16f1
DTSTAMP:20211215T220754Z
SUMMARY:Men & Womens Basketball vs College of the Redwoods
URL;VALUE=URI:https://www.frc.edu/about/calendar/2955716/men-womens-basketb
 all-vs-college-of-the-redwoods
DTSTART:20220205T210000Z
DTEND:20220205T220000Z
END:VEVENT
END:VCALENDAR
