BEGIN:VCALENDAR
VERSION:2.0
PRODID:SchoolNow
CALSCALE:GREGORIAN
BEGIN:VEVENT
UID:44aedd04-5df3-11ec-b355-0a1f748b16f1
DTSTAMP:20211215T220635Z
SUMMARY:Men & Womens Basketball vs Lassen College
URL;VALUE=URI:https://www.frc.edu/about/calendar/2955715/men-womens-basketb
 all-vs-lassen-college
DTSTART:20220129T210000Z
DTEND:20220129T220000Z
END:VEVENT
END:VCALENDAR
