BEGIN:VCALENDAR
VERSION:2.0
PRODID:SchoolNow
CALSCALE:GREGORIAN
BEGIN:VEVENT
UID:1739ab38-5df3-11ec-b9bd-0a1f748b16f1
DTSTAMP:20220118T233045Z
SUMMARY:Men & Womens Basketball vs College of the Siskiyous - NEW TIME!
URL;VALUE=URI:https://www.frc.edu/about/calendar/2955714/men-womens-basketb
 all-vs-college-of-the-siskiyous
DTSTART:20220119T230000Z
DTEND:20220120T000000Z
END:VEVENT
END:VCALENDAR
