BEGIN:VCALENDAR
VERSION:2.0
PRODID:SchoolNow
CALSCALE:GREGORIAN
BEGIN:VEVENT
UID:e52524b0-5df2-11ec-bbc2-0a1f748b16f1
DTSTAMP:20211215T220354Z
SUMMARY:Men & Womens Basketball vs Shasta College
URL;VALUE=URI:https://www.frc.edu/about/calendar/2955713/men-womens-basketb
 all-vs-shasta-college
DTSTART:20220115T210000Z
DTEND:20220115T220000Z
END:VEVENT
END:VCALENDAR
