BEGIN:VCALENDAR
VERSION:2.0
PRODID:SchoolNow
CALSCALE:GREGORIAN
BEGIN:VEVENT
UID:60977670-5952-11ec-b3a8-02de266b8207
DTSTAMP:20211210T004448Z
SUMMARY:Zoom Financial Aid/Cash 4 College Workshop
LOCATION:Click here for the Zoom Link
URL;VALUE=URI:https://www.frc.edu/about/calendar/2943557/zoom-financial-aid
 -cash-4-college-workshop-clone
DTSTART:20211216T020000Z
DTEND:20211216T040000Z
END:VEVENT
END:VCALENDAR
