BEGIN:VCALENDAR
VERSION:2.0
PRODID:SchoolNow
CALSCALE:GREGORIAN
BEGIN:VEVENT
UID:2b73aca2-5952-11ec-9c6a-02f2fc9cb85d
DTSTAMP:20211210T004421Z
SUMMARY:Zoom Financial Aid/Cash 4 College Workshop
LOCATION:Click here for the Zoom Link
URL;VALUE=URI:https://www.frc.edu/about/calendar/2943556/zoom-financial-aid
 -cash-4-college-workshop
DTSTART:20211210T020000Z
DTEND:20211210T040000Z
END:VEVENT
END:VCALENDAR
