BEGIN:VCALENDAR
VERSION:2.0
PRODID:SchoolNow
CALSCALE:GREGORIAN
BEGIN:VEVENT
UID:68fc02f2-57b5-11ec-a503-0a8af748482f
DTSTAMP:20211207T233236Z
SUMMARY:Wreath Decorating Contest
LOCATION:All around campus
URL;VALUE=URI:https://www.frc.edu/about/calendar/2938467/wreath-decorating-
 contest
DTSTART:20211206T200000Z
DTEND:20211210T000000Z
END:VEVENT
END:VCALENDAR
