BEGIN:VCALENDAR
VERSION:2.0
PRODID:SchoolNow
CALSCALE:GREGORIAN
BEGIN:VEVENT
UID:2ae84a9c-56e4-11ec-b9f5-0a2e9048e415
DTSTAMP:20211206T223334Z
SUMMARY:FRC Kickback Week - Holiday Party - Students and Staff
LOCATION:Student Lounge
URL;VALUE=URI:https://www.frc.edu/about/calendar/2935059/frc-kickback-week-
 ping-pong-tournament-clone-clone
DTSTART:20211211T010000Z
DTEND:20211211T030000Z
ATTACH;FILENAME=Holiday Party.pdf;FMTTYPE=application/pdf:https://campussui
 te-storage.s3.amazonaws.com/prod/1558523/0672826e-a84b-11e7-9779-0ae3e1d97
 83c/2351530/214ed258-56e4-11ec-b184-0a2e9048e415/file/Holiday Party.pdf
END:VEVENT
END:VCALENDAR
