BEGIN:VCALENDAR
VERSION:2.0
PRODID:SchoolNow
CALSCALE:GREGORIAN
BEGIN:VEVENT
UID:ff9ac02c-56e3-11ec-bead-0a2e9048e415
DTSTAMP:20211206T223405Z
SUMMARY:FRC Kickback Week - Music & Dinner
LOCATION:Student Lounge
URL;VALUE=URI:https://www.frc.edu/about/calendar/2935058/frc-kickback-week-
 ping-pong-tournament-clone-clone
DTSTART:20211210T010000Z
DTEND:20211210T040000Z
ATTACH;FILENAME=FRC KICKBACK WEEK.pdf;FMTTYPE=application/pdf:https://campu
 ssuite-storage.s3.amazonaws.com/prod/1558523/0672826e-a84b-11e7-9779-0ae3e
 1d9783c/2351529/69a0ec04-56e3-11ec-81db-0a2e9048e415/file/FRC KICKBACK WEE
 K.pdf
END:VEVENT
END:VCALENDAR
