BEGIN:VCALENDAR
VERSION:2.0
PRODID:SchoolNow
CALSCALE:GREGORIAN
BEGIN:VEVENT
UID:59b85d90-53c8-11ec-81ee-0ec886a7f319
DTSTAMP:20211202T233410Z
SUMMARY:Cookie Giveaway
LOCATION:Mental Health & Wellness Center
URL;VALUE=URI:https://www.frc.edu/about/calendar/2926828/cookie-giveaway
DTSTART:20211206T160000Z
DTEND:20211211T010000Z
ATTACH;FILENAME=MHWC Cookie Give Away Flyer.pdf;FMTTYPE=application/pdf:htt
 ps://campussuite-storage.s3.amazonaws.com/prod/1558523/0672826e-a84b-11e7-
 9779-0ae3e1d9783c/2350319/4ce0e2b8-53c8-11ec-8f58-0edaadb56c6f/file/MHWC C
 ookie Give Away Flyer.pdf
END:VEVENT
END:VCALENDAR
