BEGIN:VCALENDAR
VERSION:2.0
PRODID:SchoolNow
CALSCALE:GREGORIAN
BEGIN:VEVENT
UID:1dac93ac-53c8-11ec-aa2f-0edaadb56c6f
DTSTAMP:20211202T233527Z
SUMMARY:Holiday Decorating
LOCATION:Mental Health & Wellness Center
URL;VALUE=URI:https://www.frc.edu/about/calendar/2926827/holiday-decorating
DTSTART:20211206T160000Z
DTEND:20211211T010000Z
ATTACH;FILENAME=MHWC Holiday Decorating Flyer.pdf;FMTTYPE=application/pdf:h
 ttps://campussuite-storage.s3.amazonaws.com/prod/1558523/0672826e-a84b-11e
 7-9779-0ae3e1d9783c/2350320/4ce0e8f8-53c8-11ec-97e4-0edaadb56c6f/file/MHWC
  Holiday Decorating Flyer.pdf
END:VEVENT
END:VCALENDAR
