BEGIN:VCALENDAR
VERSION:2.0
PRODID:SchoolNow
CALSCALE:GREGORIAN
BEGIN:VEVENT
UID:ee94e43e-53c7-11ec-8b3d-0edaadb56c6f
DTSTAMP:20211202T233238Z
SUMMARY:Holiday Gift Exchange
LOCATION:Mental Health & Wellness Center
URL;VALUE=URI:https://www.frc.edu/about/calendar/2926826/holiday-gift-excha
 nge
DTSTART:20211211T000000Z
DTEND:20211211T010000Z
ATTACH;FILENAME=MHWC Christmas Gift Exchange Flyer.pdf;FMTTYPE=application/
 pdf:https://campussuite-storage.s3.amazonaws.com/prod/1558523/0672826e-a84
 b-11e7-9779-0ae3e1d9783c/2350318/e4c2d0e2-53c7-11ec-a32f-0edaadb56c6f/file
 /MHWC Christmas Gift Exchange Flyer.pdf
END:VEVENT
END:VCALENDAR
