BEGIN:VCALENDAR
VERSION:2.0
PRODID:SchoolNow
CALSCALE:GREGORIAN
BEGIN:VEVENT
UID:55f2e4aa-52e2-11ec-a274-0a7f5ee294eb
DTSTAMP:20211201T200739Z
SUMMARY:Volleyball STATE CHAMPIONSHIPS
URL;VALUE=URI:https://www.frc.edu/about/calendar/2923888/volleyball-state-c
 hampionships
DTSTART:20211204T030000Z
DTEND:20211204T040000Z
END:VEVENT
END:VCALENDAR
