BEGIN:VCALENDAR
VERSION:2.0
PRODID:SchoolNow
CALSCALE:GREGORIAN
BEGIN:VEVENT
UID:5ffdee7a-52c1-11ec-a69f-0ad557c8d669
DTSTAMP:20211201T161143Z
SUMMARY:Vocational Nursing Pinning/Graduation Ceremony
LOCATION:Gymnasium
URL;VALUE=URI:https://www.frc.edu/about/calendar/2923688/vocational-nursing
 -pinning-graduation-ceremony
DTSTART:20211204T210000Z
DTEND:20211204T220000Z
END:VEVENT
END:VCALENDAR
