BEGIN:VCALENDAR
VERSION:2.0
PRODID:SchoolNow
CALSCALE:GREGORIAN
BEGIN:VEVENT
UID:a513c3ec-4973-11ec-8dba-02b7f6fc7377
DTSTAMP:20211119T200238Z
SUMMARY:Football Bowl Game
LOCATION:Brennan Stadium
URL;VALUE=URI:https://www.frc.edu/about/calendar/2902209/football-bowl-game
DTSTART:20211127T210000Z
DTEND:20211128T000000Z
END:VEVENT
END:VCALENDAR
