BEGIN:VCALENDAR
VERSION:2.0
PRODID:SchoolNow
CALSCALE:GREGORIAN
BEGIN:VEVENT
UID:6aa23f9a-4973-11ec-9393-02b7f6fc7377
DTSTAMP:20211119T200100Z
SUMMARY:Volleyball Playoff Game
LOCATION:Gymnasium
URL;VALUE=URI:https://www.frc.edu/about/calendar/2902208/volleyball-playoff
 -game
DTSTART:20211124T020000Z
DTEND:20211124T030000Z
END:VEVENT
END:VCALENDAR
