BEGIN:VCALENDAR
VERSION:2.0
PRODID:SchoolNow
CALSCALE:GREGORIAN
BEGIN:VEVENT
UID:29ef6b80-4973-11ec-9184-02b7f6fc7377
DTSTAMP:20211122T183556Z
SUMMARY:Men's Soccer Playoff Game
URL;VALUE=URI:https://www.frc.edu/about/calendar/2902207/mens-soccer-playof
 f-game
DTSTART:20211122T210000Z
DTEND:20211122T230000Z
END:VEVENT
END:VCALENDAR
