BEGIN:VCALENDAR
VERSION:2.0
PRODID:SchoolNow
CALSCALE:GREGORIAN
BEGIN:VEVENT
UID:c85713ea-46fd-11ec-9204-0eed35a8c44d
DTSTAMP:20211116T165354Z
SUMMARY:Marketing & Web Help Workshop #2
LOCATION:Room 201
URL;VALUE=URI:https://www.frc.edu/about/calendar/2896998/marketing-web-help
 -workshop-2
DTSTART:20211119T220000Z
DTEND:20211119T233000Z
END:VEVENT
END:VCALENDAR
