BEGIN:VCALENDAR
VERSION:2.0
PRODID:SchoolNow
CALSCALE:GREGORIAN
BEGIN:VEVENT
UID:7e2afa50-40e7-11ec-9c99-0e880cd547e9
DTSTAMP:20211116T202112Z
SUMMARY:ASFRC Meeting
LOCATION:Student Lounge
URL;VALUE=URI:https://www.frc.edu/about/calendar/2879312/asfrc-meeting
DTSTART:20211117T233000Z
DTEND:20211118T003000Z
ATTACH;FILENAME=ASFRC Agenda 11.17.21.pdf;FMTTYPE=application/pdf:https://c
 ampussuite-storage.s3.amazonaws.com/prod/1558523/0672826e-a84b-11e7-9779-0
 ae3e1d9783c/2345135/a4a5b4f2-471a-11ec-b766-02a79dabed5b/file/ASFRC Agenda
  11.17.21.pdf
END:VEVENT
END:VCALENDAR
