BEGIN:VCALENDAR
VERSION:2.0
PRODID:SchoolNow
CALSCALE:GREGORIAN
BEGIN:VEVENT
UID:6a534a46-40e2-11ec-aea5-02ca93f919e3
DTSTAMP:20211117T233248Z
SUMMARY:Student Research Symposium
LOCATION:FRC Campus
URL;VALUE=URI:https://www.frc.edu/about/calendar/2879310/student-research-s
 ymposium
DTSTART:20211203T210000Z
DTEND:20211204T010000Z
END:VEVENT
END:VCALENDAR
