BEGIN:VCALENDAR
VERSION:2.0
PRODID:SchoolNow
CALSCALE:GREGORIAN
BEGIN:VEVENT
UID:30bc808a-3cd8-11ec-9f92-02bf3ba8088d
DTSTAMP:20211103T190039Z
SUMMARY:Veterans Day Celebration
LOCATION:Flag Pole (On Campus)
URL;VALUE=URI:https://www.frc.edu/about/calendar/2866237/veterans-day-celeb
 ration
DTSTART:20211110T194500Z
DTEND:20211110T204500Z
END:VEVENT
END:VCALENDAR
