BEGIN:VCALENDAR
VERSION:2.0
PRODID:SchoolNow
CALSCALE:GREGORIAN
BEGIN:VEVENT
UID:1c7598ea-3c0c-11ec-9c80-0e25d079651b
DTSTAMP:20211116T222208Z
SUMMARY:Annual Thanksgiving Lunch
LOCATION:The Perch
URL;VALUE=URI:https://www.frc.edu/about/calendar/2863540/annual-thanksgivin
 g-lunch
DTSTART:20211123T193000Z
DTEND:20211123T210000Z
ATTACH;FILENAME=Thanksgiving Flyer 2021 (1).pdf;FMTTYPE=application/pdf:htt
 ps://campussuite-storage.s3.amazonaws.com/prod/1558523/0672826e-a84b-11e7-
 9779-0ae3e1d9783c/2345296/9e7cc8d4-472b-11ec-961b-02204b4a0f8b/file/Thanks
 giving Flyer 2021 (1).pdf
END:VEVENT
END:VCALENDAR
