BEGIN:VCALENDAR
VERSION:2.0
PRODID:SchoolNow
CALSCALE:GREGORIAN
BEGIN:VEVENT
UID:b5e1d63c-3c08-11ec-a55e-0242a7ee8799
DTSTAMP:20211104T230159Z
SUMMARY:Dinner & a Movie!
LOCATION:Gymnasium
URL;VALUE=URI:https://www.frc.edu/about/calendar/2863429/dinner-a-movie
DTSTART:20211106T010000Z
DTEND:20211106T020000Z
END:VEVENT
END:VCALENDAR
