BEGIN:VCALENDAR
VERSION:2.0
PRODID:SchoolNow
CALSCALE:GREGORIAN
BEGIN:VEVENT
UID:485aca6e-3c04-11ec-a00d-0e0c4f519a2d
DTSTAMP:20211102T174243Z
SUMMARY:Marketing & Web Help Workshop for FRC Staff/Faculty
LOCATION:Room 201 (computer lab)
URL;VALUE=URI:https://www.frc.edu/about/calendar/2863389/marketing-web-help
 -workshop-for-frc-staff-faculty
DTSTART:20211105T210000Z
DTEND:20211105T223000Z
END:VEVENT
END:VCALENDAR
