BEGIN:VCALENDAR
VERSION:2.0
PRODID:SchoolNow
CALSCALE:GREGORIAN
BEGIN:VEVENT
UID:bba47516-15b1-11ec-adfb-029e6e1287eb
DTSTAMP:20211116T162105Z
SUMMARY:Great American Smokeout
LOCATION:The Perch
URL;VALUE=URI:https://www.frc.edu/about/calendar/2736862/great-american-smo
 keout
DTSTART;VALUE=DATE:20211118
DTEND;VALUE=DATE:20211119
END:VEVENT
END:VCALENDAR
