BEGIN:VCALENDAR
VERSION:2.0
PRODID:SchoolNow
CALSCALE:GREGORIAN
BEGIN:VEVENT
UID:cd991504-fafb-11eb-ad67-0a039c92fc59
DTSTAMP:20210811T232815Z
SUMMARY:Last Day to Drop Full-Term Classes With a W Grade
URL;VALUE=URI:https://www.frc.edu/about/calendar/2668078/last-day-to-add-dr
 op-full-term-classes-with-100-refund-clone-clone-clone
DTSTART;VALUE=DATE:20211119
DTEND;VALUE=DATE:20211120
END:VEVENT
END:VCALENDAR
