BEGIN:VCALENDAR
VERSION:2.0
PRODID:SchoolNow
CALSCALE:GREGORIAN
BEGIN:VEVENT
UID:3724e486-e99e-11eb-8853-0ace1ba724b1
DTSTAMP:20210720T210530Z
SUMMARY:Spring Break - No Classes Held
URL;VALUE=URI:https://www.frc.edu/about/calendar/2643555/spring-break-no-cl
 asses-held
DTSTART:20220411T070000Z
DTEND:20220416T065900Z
END:VEVENT
END:VCALENDAR
