BEGIN:VCALENDAR
VERSION:2.0
PRODID:SchoolNow
CALSCALE:GREGORIAN
BEGIN:VEVENT
UID:0eb1980a-e99e-11eb-956e-0ace1ba724b1
DTSTAMP:20210720T210422Z
SUMMARY:Holiday - Washington's Birthday - Campus Closed - Feb. 21
URL;VALUE=URI:https://www.frc.edu/about/calendar/2643554/holiday-labor-day-
 campus-closed-clone-clone-clone
DTSTART;VALUE=DATE:20220221
DTEND;VALUE=DATE:20220222
END:VEVENT
END:VCALENDAR
